BEGIN:VCALENDAR
VERSION:2.0
PRODID:-//Caryn Walsh - ECPv4.8.1//NONSGML v1.0//EN
CALSCALE:GREGORIAN
METHOD:PUBLISH
X-WR-CALNAME:Caryn Walsh
X-ORIGINAL-URL:http://www.carynwalsh.com.au
X-WR-CALDESC:Events for Caryn Walsh
BEGIN:VEVENT
DTSTART;TZID=UTC+10:20190226T110000
DTEND;TZID=UTC+10:20190226T120000
DTSTAMP:20190301T104543
CREATED:20190211T014808Z
LAST-MODIFIED:20190211T014808Z
UID:3903-1551178800-1551182400@www.carynwalsh.com.au
SUMMARY:Webinar - Big\, Bad Bullies
DESCRIPTION:
URL:http://www.carynwalsh.com.au/event/webinar-big-bad-bullies/
LOCATION:Webinar
CATEGORIES:Webinar
ATTACH;FMTTYPE=image/jpeg:http://www.carynwalsh.com.au/wp-content/uploads/2019/02/2019-02-big-bad-bullies.jpg
ORGANIZER;CN="Caryn%20Walsh":MAILTO:info@empoweringwomen.net.au
END:VEVENT
END:VCALENDAR